BEGIN:VCALENDAR
VERSION:2.0
PRODID:-//SportsAnnouncing.com - ECPv6.15.20//NONSGML v1.0//EN
CALSCALE:GREGORIAN
METHOD:PUBLISH
X-WR-CALNAME:SportsAnnouncing.com
X-ORIGINAL-URL:https://www.sportsannouncing.com
X-WR-CALDESC:Events for SportsAnnouncing.com
REFRESH-INTERVAL;VALUE=DURATION:PT1H
X-Robots-Tag:noindex
X-PUBLISHED-TTL:PT1H
BEGIN:VTIMEZONE
TZID:America/New_York
BEGIN:DAYLIGHT
TZOFFSETFROM:-0500
TZOFFSETTO:-0400
TZNAME:EDT
DTSTART:20240310T070000
END:DAYLIGHT
BEGIN:STANDARD
TZOFFSETFROM:-0400
TZOFFSETTO:-0500
TZNAME:EST
DTSTART:20241103T060000
END:STANDARD
BEGIN:DAYLIGHT
TZOFFSETFROM:-0500
TZOFFSETTO:-0400
TZNAME:EDT
DTSTART:20250309T070000
END:DAYLIGHT
BEGIN:STANDARD
TZOFFSETFROM:-0400
TZOFFSETTO:-0500
TZNAME:EST
DTSTART:20251102T060000
END:STANDARD
BEGIN:DAYLIGHT
TZOFFSETFROM:-0500
TZOFFSETTO:-0400
TZNAME:EDT
DTSTART:20260308T070000
END:DAYLIGHT
BEGIN:STANDARD
TZOFFSETFROM:-0400
TZOFFSETTO:-0500
TZNAME:EST
DTSTART:20261101T060000
END:STANDARD
END:VTIMEZONE
BEGIN:VEVENT
DTSTART;TZID=America/New_York:20250916T163000
DTEND;TZID=America/New_York:20250916T213000
DTSTAMP:20260419T111940
CREATED:20250910T171608Z
LAST-MODIFIED:20250912T031838Z
UID:3846-1758040200-1758058200@www.sportsannouncing.com
SUMMARY:Herndon Volleyball vs. Wakefield
DESCRIPTION:Herndon looks to get the W against Wakefield High School in Virginia High School League volleyball action.  \n\n\n\n\n\n\n\n\n\n\n\n\n\n\n\n\nShare this:\n				Email a link to a friend (Opens in new window)\n				Email\n			\n				Share on Facebook (Opens in new window)\n				Facebook\n			\n				Share on X (Opens in new window)\n				X\n			\n				Share on Pinterest (Opens in new window)\n				Pinterest\n			\n				Share on LinkedIn (Opens in new window)\n				LinkedIn\n			\n				Share on Nextdoor (Opens in new window)\n				Nextdoor\n			\n				Share on Bluesky (Opens in new window)\n				Bluesky\n			\n				Share on Threads (Opens in new window)\n				Threads\n			More\n				Print (Opens in new window)\n				Print\n			\n				Share on Reddit (Opens in new window)\n				Reddit\n			\n				Share on Tumblr (Opens in new window)\n				Tumblr\n			Like this:Like Loading...
URL:https://www.sportsannouncing.com/event/herndon-volleyball-vs-wakefield/
LOCATION:Lou Pukal Gymnasium at Herndon High School\, 700 Bennett Street\, Herndon\, VA\, 20170-3104\, United States
ATTACH;FMTTYPE=image/png:https://www.sportsannouncing.com/wp-content/uploads/2025/08/Herndon-Hornets-PNG.png
END:VEVENT
BEGIN:VEVENT
DTSTART;TZID=America/New_York:20250902T183000
DTEND;TZID=America/New_York:20250902T203000
DTSTAMP:20260419T111940
CREATED:20250829T164735Z
LAST-MODIFIED:20250829T170626Z
UID:3788-1756837800-1756845000@www.sportsannouncing.com
SUMMARY:Herndon vs. Oakton Volleyball
DESCRIPTION:Herndon takes on Oakton in a Varsity-only girls volleyball match-up at Herndon High School.  We will be there providing the in-match announcing and music.  \n\n\n\n\n\n\n\n\n\n\n\n\n\n \nShare this:\n				Email a link to a friend (Opens in new window)\n				Email\n			\n				Share on Facebook (Opens in new window)\n				Facebook\n			\n				Share on X (Opens in new window)\n				X\n			\n				Share on Pinterest (Opens in new window)\n				Pinterest\n			\n				Share on LinkedIn (Opens in new window)\n				LinkedIn\n			\n				Share on Nextdoor (Opens in new window)\n				Nextdoor\n			\n				Share on Bluesky (Opens in new window)\n				Bluesky\n			\n				Share on Threads (Opens in new window)\n				Threads\n			More\n				Print (Opens in new window)\n				Print\n			\n				Share on Reddit (Opens in new window)\n				Reddit\n			\n				Share on Tumblr (Opens in new window)\n				Tumblr\n			Like this:Like Loading...
URL:https://www.sportsannouncing.com/event/herndon-vs-oakton-volleyball/
LOCATION:Lou Pukal Gymnasium at Herndon High School\, 700 Bennett Street\, Herndon\, VA\, 20170-3104\, United States
ATTACH;FMTTYPE=image/png:https://www.sportsannouncing.com/wp-content/uploads/2025/08/Herndon-Hornets-PNG.png
END:VEVENT
END:VCALENDAR