BEGIN:VCALENDAR
VERSION:2.0
PRODID:-//SportsAnnouncing.com - ECPv6.15.20//NONSGML v1.0//EN
CALSCALE:GREGORIAN
METHOD:PUBLISH
X-ORIGINAL-URL:https://www.sportsannouncing.com
X-WR-CALDESC:Events for SportsAnnouncing.com
REFRESH-INTERVAL;VALUE=DURATION:PT1H
X-Robots-Tag:noindex
X-PUBLISHED-TTL:PT1H
BEGIN:VTIMEZONE
TZID:America/New_York
BEGIN:DAYLIGHT
TZOFFSETFROM:-0500
TZOFFSETTO:-0400
TZNAME:EDT
DTSTART:20250309T070000
END:DAYLIGHT
BEGIN:STANDARD
TZOFFSETFROM:-0400
TZOFFSETTO:-0500
TZNAME:EST
DTSTART:20251102T060000
END:STANDARD
BEGIN:DAYLIGHT
TZOFFSETFROM:-0500
TZOFFSETTO:-0400
TZNAME:EDT
DTSTART:20260308T070000
END:DAYLIGHT
BEGIN:STANDARD
TZOFFSETFROM:-0400
TZOFFSETTO:-0500
TZNAME:EST
DTSTART:20261101T060000
END:STANDARD
BEGIN:DAYLIGHT
TZOFFSETFROM:-0500
TZOFFSETTO:-0400
TZNAME:EDT
DTSTART:20270314T070000
END:DAYLIGHT
BEGIN:STANDARD
TZOFFSETFROM:-0400
TZOFFSETTO:-0500
TZNAME:EST
DTSTART:20271107T060000
END:STANDARD
END:VTIMEZONE
BEGIN:VEVENT
DTSTART;TZID=America/New_York:20260409T180000
DTEND;TZID=America/New_York:20260409T200000
DTSTAMP:20260420T175419
CREATED:20260409T181458Z
LAST-MODIFIED:20260409T181505Z
UID:3876-1775757600-1775764800@www.sportsannouncing.com
SUMMARY:A JV Softball Battle:  Gainesville Takes on Colgan
DESCRIPTION:Gainesville Cardinals JV softball team takes on the Colgan Sharks at the Gainesville High School Cardinal Sports Complex.  The JV softball team has been playing well this season and looks to continue their great play! \n\n\n\n\n\n\n\n\n\n\n\n\n\n\n\n\n\n\n\n\n\n\n\n \nShare this:\n				Email a link to a friend (Opens in new window)\n				Email\n			\n				Share on Facebook (Opens in new window)\n				Facebook\n			\n				Share on X (Opens in new window)\n				X\n			\n				Share on Pinterest (Opens in new window)\n				Pinterest\n			\n				Share on LinkedIn (Opens in new window)\n				LinkedIn\n			\n				Share on Nextdoor (Opens in new window)\n				Nextdoor\n			\n				Share on Bluesky (Opens in new window)\n				Bluesky\n			\n				Share on Threads (Opens in new window)\n				Threads\n			More\n				Print (Opens in new window)\n				Print\n			\n				Share on Reddit (Opens in new window)\n				Reddit\n			\n				Share on Tumblr (Opens in new window)\n				Tumblr\n			Like this:Like Loading...
URL:https://www.sportsannouncing.com/event/a-jv-softball-battle-gainesville-takes-on-colgan/
LOCATION:Cardinal Sports Complex\, Gainesville\, Virginia\, 13150 University Boulevard\, Gainesville\, Virginia\, 20155\, United States
ATTACH;FMTTYPE=image/png:https://www.sportsannouncing.com/wp-content/uploads/2026/04/Gainesville-HIgh-School-Cirlce-PNG.png
END:VEVENT
END:VCALENDAR